BEGIN:VCALENDAR
VERSION:2.0
PRODID:-//Victory Church of Christ - ECPv5.2.0//NONSGML v1.0//EN
CALSCALE:GREGORIAN
METHOD:PUBLISH
X-WR-CALNAME:Victory Church of Christ
X-ORIGINAL-URL:https://vccmin.org
X-WR-CALDESC:Events for Victory Church of Christ
BEGIN:VTIMEZONE
TZID:UTC
BEGIN:STANDARD
TZOFFSETFROM:+0000
TZOFFSETTO:+0000
TZNAME:UTC
DTSTART:20190101T000000
END:STANDARD
END:VTIMEZONE
BEGIN:VEVENT
DTSTART;TZID=UTC:20190720T170000
DTEND;TZID=UTC:20190720T200000
DTSTAMP:20260420T121604
CREATED:20190712T085212Z
LAST-MODIFIED:20190712T085943Z
UID:2347-1563642000-1563652800@vccmin.org
SUMMARY:2nd Financial Pillar Celebrations
DESCRIPTION:Dear KFP\, Praise the Lord! The organising committee for the  quarterly Kingdom Financial Pillar Dinner\, \nPrayer and impartation invites you for the event at St\, John Hotel Bugolobi 20th July 2019. \nIt will be a time for Testimonies and Praise reports out of your support. Time 3:00pm\, \nDont Miss \nBp. George Oduch
URL:https://vccmin.org/event/2nd-financial-pillar-meeting/
CATEGORIES:Church Events
END:VEVENT
END:VCALENDAR