BEGIN:VCALENDAR
VERSION:2.0
PRODID:-//Victory Church of Christ - ECPv5.2.0//NONSGML v1.0//EN
CALSCALE:GREGORIAN
METHOD:PUBLISH
X-WR-CALNAME:Victory Church of Christ
X-ORIGINAL-URL:https://vccmin.org
X-WR-CALDESC:Events for Victory Church of Christ
BEGIN:VTIMEZONE
TZID:UTC
BEGIN:STANDARD
TZOFFSETFROM:+0000
TZOFFSETTO:+0000
TZNAME:UTC
DTSTART:20190101T000000
END:STANDARD
END:VTIMEZONE
BEGIN:VEVENT
DTSTART;TZID=UTC:20191225T063000
DTEND;TZID=UTC:20191225T123000
DTSTAMP:20260420T231355
CREATED:20190903T120532Z
LAST-MODIFIED:20190903T121012Z
UID:2451-1577255400-1577277000@vccmin.org
SUMMARY:CHRISTMAS DAY Service 2019
DESCRIPTION:Welcome to Worship with us the Christmas at Victory Church with Bp. George and Rose Oduch. \nCome let us celebrate the birth of a savior and Lord Jesus Christ. \nWe shall have lots of praises and worship during the services. \ndont miss\, God bless
URL:https://vccmin.org/event/christmas-day-service-2019/
LOCATION:Victory Church Of Christ\, Agati Zone Luzira\, Kampala\, 256\, Uganda
CATEGORIES:Church Events
END:VEVENT
END:VCALENDAR