BEGIN:VCALENDAR
VERSION:2.0
PRODID:-//Victory Church of Christ - ECPv5.2.0//NONSGML v1.0//EN
CALSCALE:GREGORIAN
METHOD:PUBLISH
X-WR-CALNAME:Victory Church of Christ
X-ORIGINAL-URL:https://vccmin.org
X-WR-CALDESC:Events for Victory Church of Christ
BEGIN:VTIMEZONE
TZID:UTC
BEGIN:STANDARD
TZOFFSETFROM:+0000
TZOFFSETTO:+0000
TZNAME:UTC
DTSTART:20190101T000000
END:STANDARD
END:VTIMEZONE
BEGIN:VEVENT
DTSTART;TZID=UTC:20190907T080000
DTEND;TZID=UTC:20190908T170000
DTSTAMP:20260420T191217
CREATED:20190903T115227Z
LAST-MODIFIED:20190903T115826Z
UID:2445-1567843200-1567962000@vccmin.org
SUMMARY:CONFERENCE VCCMI KAPCHORWA
DESCRIPTION:OVERTURNING CAPTIVITTY CONFERENCE 2019 \nGUEST; BP. George Oduch \nStarting SEPT 7-8 2019 \nFull event period till Oct 9th 2019
URL:https://vccmin.org/event/conference-vccmi-kapchorwa/
CATEGORIES:Church Events
END:VEVENT
END:VCALENDAR