BEGIN:VCALENDAR
VERSION:2.0
PRODID:-//Victory Church of Christ - ECPv5.2.0//NONSGML v1.0//EN
CALSCALE:GREGORIAN
METHOD:PUBLISH
X-WR-CALNAME:Victory Church of Christ
X-ORIGINAL-URL:https://vccmin.org
X-WR-CALDESC:Events for Victory Church of Christ
BEGIN:VTIMEZONE
TZID:UTC
BEGIN:STANDARD
TZOFFSETFROM:+0000
TZOFFSETTO:+0000
TZNAME:UTC
DTSTART:20190101T000000
END:STANDARD
END:VTIMEZONE
BEGIN:VEVENT
DTSTART;TZID=UTC:20191124T080000
DTEND;TZID=UTC:20191124T170000
DTSTAMP:20260420T191843
CREATED:20190903T122224Z
LAST-MODIFIED:20190903T122224Z
UID:2457-1574582400-1574614800@vccmin.org
SUMMARY:THANKSGIVING SERVICE 2019
DESCRIPTION:Come lets thanks and Praises to the Lord for His mercies and wonder upon our lives. \nFrom the month of January till now\, we have to give Him adoration. Carrying along precious gifts to the altar\, lets us come and share of His goodness. \nministering will be Bp. George Oduch with the Echoes of Victory Choir performing. \nInvite your family and friends to appreciate what the Lord has done. \nGod bless.
URL:https://vccmin.org/event/thanksgiving-service-2019/
LOCATION:Victory Church Of Christ\, Agati Zone Luzira\, Kampala\, 256\, Uganda
CATEGORIES:Church Events
END:VEVENT
END:VCALENDAR